BEGIN:VCALENDAR
VERSION:2.0
PRODID:-//StaynEatHealthy - ECPv5.1.6//NONSGML v1.0//EN
CALSCALE:GREGORIAN
METHOD:PUBLISH
X-WR-CALNAME:StaynEatHealthy
X-ORIGINAL-URL:https://www.stayneathealthy.com
X-WR-CALDESC:Events for StaynEatHealthy
BEGIN:VTIMEZONE
TZID:UTC
BEGIN:STANDARD
TZOFFSETFROM:+0000
TZOFFSETTO:+0000
TZNAME:UTC
DTSTART:20160101T000000
END:STANDARD
END:VTIMEZONE
BEGIN:VEVENT
DTSTART;TZID=UTC:20161123T070000
DTEND;TZID=UTC:20161123T073000
DTSTAMP:20260419T141430
CREATED:20161129T063521Z
LAST-MODIFIED:20161129T063521Z
UID:438-1479884400-1479886200@www.stayneathealthy.com
SUMMARY:Yoga Class
DESCRIPTION:Body Building working meant we will snack and coffee of breaks\, change our desks oor views\, drinks the jobs\, event spend the day pajjamas\, and often meet to gossips or share idea snack and coffee breaks\, changes our your daily workouts.
URL:https://www.stayneathealthy.com/event/yoga-class/
CATEGORIES:Yoga Class
END:VEVENT
END:VCALENDAR